BEGIN:VCALENDAR
VERSION:2.0
PRODID:-//Eventin//Event Calendar//EN
CALSCALE:GREGORIAN
METHOD:PUBLISH
BEGIN:VEVENT
UID:4f6e80e3ed66f49ce931909ae7c3e540@www.slam-owl.de
SUMMARY:Paderborner Stadtmeisterschaft - Halbfinale 2
DESCRIPTION:Die Paderborner Poetry Slam Stadtmeisterschaft 2026 steht an 
 – und das gleich mit drei Abenden voller Wortgewalt\, Gänsehaut-Momenten
  und jeder Menge Applaus!\nZuerst geht es in die Vorrunden:\n1.Halbfinale\n
 \nJuni – 19:30 Uhr - Sputnik\, Imadstraße 7\n\n2.Halbfinale\n\nJuni – 
 19:30 Uhr - Stadtbibliothek\, Am Rothoborn 1\n\n \nDas große Finale\n\nJu
 ni – 19:30 Uhr - Theater Paderborn\, Neuer Platz 6\n\n \nHalbfinal-Ticke
 ts gibt es an der Abendkasse.Finale-Tickets online unter Theater-Paderborn.
 de\nKommt vorbei\, supportet die Slammer*innen und entscheidet mit\, wer Pa
 derborner Stadtmeister*in 2026 wird!
LOCATION:Stadtbiliothek
DTSTAMP:20260424T103312Z
DTSTART:20260603T170000Z
DTEND:20260603T200000Z
END:VEVENT
END:VCALENDAR
